BEGIN:VCALENDAR
VERSION:2.0
PRODID:icalendar-ruby
CALSCALE:GREGORIAN
METHOD:PUBLISH
BEGIN:VEVENT
DTSTAMP:20260420T105324Z
UID:7-247366@prbaptistchurch.org
DTSTART:20261025T150000Z
DTEND:20261025T160000Z
CLASS:PUBLIC
CREATED:20260420T040155
DESCRIPTION:
LAST-MODIFIED:20260420T040155
LOCATION:
SUMMARY:Sunday Worship 
URL;VALUE=URI:https://www.prbaptistchurch.org/events/sunday-worship--7/2026
 -10-25
END:VEVENT
END:VCALENDAR
