BEGIN:VCALENDAR
VERSION:2.0
PRODID:icalendar-ruby
CALSCALE:GREGORIAN
METHOD:PUBLISH
BEGIN:VEVENT
DTSTAMP:20260420T121732Z
UID:7-247367@prbaptistchurch.org
DTSTART:20261101T160000Z
DTEND:20261101T170000Z
CLASS:PUBLIC
CREATED:20260420T040155
DESCRIPTION:
LAST-MODIFIED:20260420T040155
LOCATION:
SUMMARY:Sunday Worship 
URL;VALUE=URI:https://www.prbaptistchurch.org/events/sunday-worship--7/2026
 -11-01
END:VEVENT
END:VCALENDAR
